BEGIN:VCALENDAR
VERSION:2.0
PRODID:-//Kolpingsfamilie Poing - ECPv6.15.18//NONSGML v1.0//EN
CALSCALE:GREGORIAN
METHOD:PUBLISH
X-ORIGINAL-URL:https://www.kolping-poing.de
X-WR-CALDESC:Veranstaltungen für Kolpingsfamilie Poing
REFRESH-INTERVAL;VALUE=DURATION:PT1H
X-Robots-Tag:noindex
X-PUBLISHED-TTL:PT1H
BEGIN:VTIMEZONE
TZID:Europe/Berlin
BEGIN:DAYLIGHT
TZOFFSETFROM:+0100
TZOFFSETTO:+0200
TZNAME:CEST
DTSTART:20250330T010000
END:DAYLIGHT
BEGIN:STANDARD
TZOFFSETFROM:+0200
TZOFFSETTO:+0100
TZNAME:CET
DTSTART:20251026T010000
END:STANDARD
BEGIN:DAYLIGHT
TZOFFSETFROM:+0100
TZOFFSETTO:+0200
TZNAME:CEST
DTSTART:20260329T010000
END:DAYLIGHT
BEGIN:STANDARD
TZOFFSETFROM:+0200
TZOFFSETTO:+0100
TZNAME:CET
DTSTART:20261025T010000
END:STANDARD
BEGIN:DAYLIGHT
TZOFFSETFROM:+0100
TZOFFSETTO:+0200
TZNAME:CEST
DTSTART:20270328T010000
END:DAYLIGHT
BEGIN:STANDARD
TZOFFSETFROM:+0200
TZOFFSETTO:+0100
TZNAME:CET
DTSTART:20271031T010000
END:STANDARD
END:VTIMEZONE
BEGIN:VEVENT
DTSTART;TZID=Europe/Berlin:20260109T170000
DTEND;TZID=Europe/Berlin:20260109T190000
DTSTAMP:20260423T141333
CREATED:20251211T120702Z
LAST-MODIFIED:20251220T171156Z
UID:1115-1767978000-1767985200@www.kolping-poing.de
SUMMARY:Führung: "Digital by nature" in der Kunsthalle
DESCRIPTION:Die aktuelle Ausstellung „Digital by nature“ ist die bislang größte Einzelausstellung von Miguel Chevalier in Europa. Wir bieten hierzu eine Führung durch die Ausstellung an. Erneut wird diese von Frau von Egloffstein durchgeführt\, worüber wir uns sehr freuen. Die Gruppengröße ist auf 20 Personen beschränkt. \nWir treffen uns um am Freitag\, 9. Januar\, um 17:00 Uhr vor dem Eingang der Ausstellung (2. Stock\, nicht vor dem Gebäude). \nDie Unkosten für die Führung belaufen sich auf 9 Euro pro Person. Bitte beachten\, dass der Eintritt in die Ausstellung in diesem Preis nicht enthalten ist und selbst zu entrichten ist (online oder vor Ort). \nEine Teilnahme ist nur nach Anmeldung an Toni Jell unter 0172 – 35 11 390 möglich.
URL:https://www.kolping-poing.de/event/fuehrung-digital-by-nature-in-der-kunsthalle/
LOCATION:Kunsthalle München\, Theatinerstr. 8\, München\, 80333\, Germany
END:VEVENT
BEGIN:VEVENT
DTSTART;TZID=Europe/Berlin:20260124T150000
DTEND;TZID=Europe/Berlin:20260124T170000
DTSTAMP:20260423T141333
CREATED:20260118T172538Z
LAST-MODIFIED:20260123T065741Z
UID:1267-1769266800-1769274000@www.kolping-poing.de
SUMMARY:Informationstag für Poinger Bürger
DESCRIPTION:Die Gemeinde Poing veranstaltet wieder einen Neubürger-Informationstag\, auch Tag der Begegnung und des Ehrenamts genannt. Bei diesem können sich die verschiedenen Poinger Vereine und Organisationen vorstellen. \nAuch wir beteiligen uns und werden neben unserer Mittagsbetreuung auch unseren Trostkoffer und unser abwechslungsreiches Programm vorstellen.
URL:https://www.kolping-poing.de/event/informationstag-fuer-poinger-buerger/
LOCATION:Grundschule am Bergfeld\, Gebr.-Grimm-Str. 2\, Poing\, Bayern\, 85586\, Germany
CATEGORIES:Externe Veranstaltung
END:VEVENT
BEGIN:VEVENT
DTSTART;TZID=Europe/Berlin:20260131T110000
DTEND;TZID=Europe/Berlin:20260131T133000
DTSTAMP:20260423T141333
CREATED:20251219T092226Z
LAST-MODIFIED:20251219T092226Z
UID:1140-1769857200-1769866200@www.kolping-poing.de
SUMMARY:Winterwanderung
DESCRIPTION:Wir wandern ca. 7\,3 km ohne Steigung in einer Gegend\, wie sie schöner kaum sein kann. Die Gehzeit beträgt rund 2 Stunden. Bei hoffentlich trockenem Winterwetter unbedingt geeignete Schuhe und warme Kleidung tragen. Ebenso wichtig ist es\, eine kleine Brotzeit mit Getränk mitzubringen. \nZum Abschluss der Wanderung werden wir einkehren. Um eine Reservierung und um Fahrgemeinschaften bilden zu können ist eine Anmeldung sehr nützlich. \nTreffpunkt: Samstag 31 Januar. 2026 um 11 Uhr am Parkplatz Schliersee Campingplatz am Nordufer. \nGPS: Breite N47.727914 Länge: E011.850829 \nAnsprechpartner für alle Fragen ist Hörst Möderle\, Telefon 0 81 21 – 97 17 29. \nSollte ein Ausweichtermin notwendig sein wäre das der 08.02.2026 \n 
URL:https://www.kolping-poing.de/event/winterwanderung/
LOCATION:Parkplatz Schliersee\, Westerbergstraße\, Schliersee\, 83727\, Germany
END:VEVENT
END:VCALENDAR