BEGIN:VCALENDAR
VERSION:2.0
PRODID:-//Kolpingsfamilie Poing - ECPv6.15.18//NONSGML v1.0//EN
CALSCALE:GREGORIAN
METHOD:PUBLISH
X-WR-CALNAME:Kolpingsfamilie Poing
X-ORIGINAL-URL:https://www.kolping-poing.de
X-WR-CALDESC:Veranstaltungen für Kolpingsfamilie Poing
REFRESH-INTERVAL;VALUE=DURATION:PT1H
X-Robots-Tag:noindex
X-PUBLISHED-TTL:PT1H
BEGIN:VTIMEZONE
TZID:Europe/Berlin
BEGIN:DAYLIGHT
TZOFFSETFROM:+0100
TZOFFSETTO:+0200
TZNAME:CEST
DTSTART:20240331T010000
END:DAYLIGHT
BEGIN:STANDARD
TZOFFSETFROM:+0200
TZOFFSETTO:+0100
TZNAME:CET
DTSTART:20241027T010000
END:STANDARD
BEGIN:DAYLIGHT
TZOFFSETFROM:+0100
TZOFFSETTO:+0200
TZNAME:CEST
DTSTART:20250330T010000
END:DAYLIGHT
BEGIN:STANDARD
TZOFFSETFROM:+0200
TZOFFSETTO:+0100
TZNAME:CET
DTSTART:20251026T010000
END:STANDARD
BEGIN:DAYLIGHT
TZOFFSETFROM:+0100
TZOFFSETTO:+0200
TZNAME:CEST
DTSTART:20260329T010000
END:DAYLIGHT
BEGIN:STANDARD
TZOFFSETFROM:+0200
TZOFFSETTO:+0100
TZNAME:CET
DTSTART:20261025T010000
END:STANDARD
END:VTIMEZONE
BEGIN:VEVENT
DTSTART;TZID=Europe/Berlin:20250501T080000
DTEND;TZID=Europe/Berlin:20250504T180000
DTSTAMP:20260424T023852
CREATED:20250218T111148Z
LAST-MODIFIED:20250218T112634Z
UID:535-1746086400-1746381600@www.kolping-poing.de
SUMMARY:Schwarz - Orange - BUNT
DESCRIPTION:175 Jahre Kolpingwerk! \nDas muss und wird gefeiert vom 2. – 4. Mai 2025 in Köln. Auch Mitglieder unserer Kolpingsfamilie beteiligen sich dort. Neben Konzerten und Gottesdiensten gibt es viele weitere Veranstaltungen quer durch die Altstadt Kölns. \nWir fahren bereits am 1. Mai mit dem Zug nach Köln und freuen uns auf viele schöne Erlebnisse. \n 
URL:https://www.kolping-poing.de/event/schwarz-orange-bunt/
LOCATION:Köln\, Köln\, 50667
CATEGORIES:Externe Veranstaltung
END:VEVENT
BEGIN:VEVENT
DTSTART;TZID=Europe/Berlin:20250503T090000
DTEND;TZID=Europe/Berlin:20250503T130000
DTSTAMP:20260424T023852
CREATED:20250218T111326Z
LAST-MODIFIED:20250328T182919Z
UID:539-1746262800-1746277200@www.kolping-poing.de
SUMMARY:Basteln für Vater- und Muttertag
DESCRIPTION:Es wird wieder fröhlich für Vater- und Muttertag gebastelt. Dabei gibt es eine große Auswahl an Bastelmöglichkeiten\, beispielsweise Arbeiten mit Laubsäge\, Holz\, Perlen\, Wolle und Farbe. \nWir bitten um Anmeldung unter basteln@kolping-poing.de unter Angabe von Namen\, Alter und Notrufnummer bis zum 2. Mai. \nBitte mitbringen: Transportschachtel (Grundfläche mind. DIN A4)\, alte Kleidung welche schmutzig werden darf und eigenes Getränk. \nEs fällt ein Unkostenbeitrag von 8 Euro pro Kind (ab 1. Klasse) an.
URL:https://www.kolping-poing.de/event/basteln-fuer-vater-und-muttertag/
LOCATION:Kath. Pfarrheim Pater Rupert Mayer\, Gebrüder-Asam-Straße 2\, Poing\, 85586\, Germany
END:VEVENT
BEGIN:VEVENT
DTSTART;TZID=Europe/Berlin:20250510T084500
DTEND;TZID=Europe/Berlin:20250510T180000
DTSTAMP:20260424T023852
CREATED:20250218T111447Z
LAST-MODIFIED:20250414T084652Z
UID:541-1746866700-1746900000@www.kolping-poing.de
SUMMARY:Vormuttertagsausflug
DESCRIPTION:Der Vormuttertagsausflug exklusiv für Frauen führt dieses Jahr nach München in und um das Schloss Nymphenburg. Dort erwartet die Frauen eine Führung durch die Ausstellung. \nTreffpunkt ist um 08:45 Uhr am S-Bahnhof Poing Nord (Richtung München). Zwecks Planung bitten wir um Anmeldung bei Siglinde Hauptmann unter 0 81 21 – 81 83 3. \nAuch Nicht-Mitglieder sind herzlich willkommen. \nHinweis: Der Ausflug ist so geplant\, dass eine Teilnahme an der Veranstaltung „Dass ein gutes Deutschland blühe“ von Opus 45\, veranstaltet von Respekt@Poing und den Kulturtagen Poing\, möglich sein wird.
URL:https://www.kolping-poing.de/event/vormuttertagsausflug/
END:VEVENT
BEGIN:VEVENT
DTSTART;TZID=Europe/Berlin:20250510T190000
DTEND;TZID=Europe/Berlin:20250510T213000
DTSTAMP:20260424T023852
CREATED:20250406T100124Z
LAST-MODIFIED:20250414T084553Z
UID:685-1746903600-1746912600@www.kolping-poing.de
SUMMARY:"Dass ein gutes Deutschland blühe..."
DESCRIPTION:Anlässlich zu 80 Jahre Kriegsende veranstaltet die Aktionsgruppe „Respekt@Poing“ zusammen mit den „Kulturtagen Poing“ einen Abend unter dem Titel „Dass ein gutes Deutschland blühe…“. Auftreten wird dort wieder Opus 45\, welche mit Texten u. a. von Bertolt Brecht und Nelly Sachs sowie mit Musikbeiträgen von von Ludwig van Beethoven\, Hanns Eisler und Jean Françaix gestalten wird. Opus 45 ist bereits letzten Jahr in Poing zu 75 Jahre Grundgesetzt aufgetreten. \nDie Veranstaltung wird kostenfrei sein\, um Spenden wird gebeten. Nähere Informationen bei Respekt@Poing.
URL:https://www.kolping-poing.de/event/dass-ein-gutes-deutschland-bluehe/
LOCATION:Dreifachturnhalle Poing\, Plieninger Str. 22\, Poing\, 85586\, Germany
CATEGORIES:Externe Veranstaltung
END:VEVENT
BEGIN:VEVENT
DTSTART;TZID=Europe/Berlin:20250524T110000
DTEND;TZID=Europe/Berlin:20250524T120000
DTSTAMP:20260424T023852
CREATED:20250218T112215Z
LAST-MODIFIED:20250218T112215Z
UID:545-1748084400-1748088000@www.kolping-poing.de
SUMMARY:Berggottesdienst
DESCRIPTION:Zusammen mit unserem Diözesanpräses Christoph Wittmann feiern wir in den Ammergauer Alpen einen Berggottesdienst. Dieser findet am Kolbensattel oberhalb von Oberammergau statt. \nDer Kolbensattel ist mit der Sesselbahn bequem zu erreichen\, der Platz für den Berggottesdienst ist in ca. 10 min und auch für Rollstuhlfahrer und gehbehinderte Menschen erreichbar. \nNach dem Berggottesdienst ist die Einkehr in der Kolbensattelalm möglich\, ebenso verschiedene Wandertouren mit unterschiedlichen Ansprüchen. Für Wagemutige ist die Abfahrt mittels eines Alpincoasters möglich. \nBei ausreichendem Interesse wird am Nachmittag eine kostenfreie Führung durch Oberammergau angeboten. \n  \nFahrzeiten: \nPoing – Oberammergau Auto: ca. 90 min\nParkplatz Kolbensattel – Talstation Gehminuten: ca. 5 min\nFahrt Talstation – Bergstation mit Lift: ca. 20 min\nBergstation – Kreuz Gehminuten: ca. 10 min \nGerne können Fahrtgemeinschaften gebildet werden. \nWir freuen uns über zahlreiche Mitfeiernde.
URL:https://www.kolping-poing.de/event/berggottesdienst/
LOCATION:Kolbensattel Oberammergau\, Kreislainenweg 1\, Oberammergau\, 82487\, Germany
END:VEVENT
END:VCALENDAR