BEGIN:VCALENDAR
VERSION:2.0
PRODID:-//Kolpingsfamilie Poing - ECPv6.15.18//NONSGML v1.0//EN
CALSCALE:GREGORIAN
METHOD:PUBLISH
X-WR-CALNAME:Kolpingsfamilie Poing
X-ORIGINAL-URL:https://www.kolping-poing.de
X-WR-CALDESC:Veranstaltungen für Kolpingsfamilie Poing
REFRESH-INTERVAL;VALUE=DURATION:PT1H
X-Robots-Tag:noindex
X-PUBLISHED-TTL:PT1H
BEGIN:VTIMEZONE
TZID:Europe/Berlin
BEGIN:DAYLIGHT
TZOFFSETFROM:+0100
TZOFFSETTO:+0200
TZNAME:CEST
DTSTART:20240331T010000
END:DAYLIGHT
BEGIN:STANDARD
TZOFFSETFROM:+0200
TZOFFSETTO:+0100
TZNAME:CET
DTSTART:20241027T010000
END:STANDARD
BEGIN:DAYLIGHT
TZOFFSETFROM:+0100
TZOFFSETTO:+0200
TZNAME:CEST
DTSTART:20250330T010000
END:DAYLIGHT
BEGIN:STANDARD
TZOFFSETFROM:+0200
TZOFFSETTO:+0100
TZNAME:CET
DTSTART:20251026T010000
END:STANDARD
BEGIN:DAYLIGHT
TZOFFSETFROM:+0100
TZOFFSETTO:+0200
TZNAME:CEST
DTSTART:20260329T010000
END:DAYLIGHT
BEGIN:STANDARD
TZOFFSETFROM:+0200
TZOFFSETTO:+0100
TZNAME:CET
DTSTART:20261025T010000
END:STANDARD
END:VTIMEZONE
BEGIN:VEVENT
DTSTART;TZID=Europe/Berlin:20251205T160000
DTEND;TZID=Europe/Berlin:20251205T200000
DTSTAMP:20260423T223219
CREATED:20250301T174419Z
LAST-MODIFIED:20251019T171044Z
UID:594-1764950400-1764964800@www.kolping-poing.de
SUMMARY:Nikolaus-Besuch
DESCRIPTION:Unser Nikolaus besucht gerne wieder Familien in und um Poing. \nDer Besuch erfolgt kostenfrei\, wir bitten aber um eine Spende in Höhe von 30\,00 Euro für das Waisenhaus in Ivano-Frankisvk\, Ukraine. Zu diesem besteht seit dem Weltjugendtag 2005 in Deutschland eine persönliche Beziehung. \nWeitere Informationen und Anmeldung gibt es unter der Mailadresse nikolaus@kolping-poing.de
URL:https://www.kolping-poing.de/event/nikolaus-besuch/
ATTACH;FMTTYPE=image/png:https://www.kolping-poing.de/wp-content/uploads/2025/03/Nikolaus.png
END:VEVENT
BEGIN:VEVENT
DTSTART;TZID=Europe/Berlin:20251206T160000
DTEND;TZID=Europe/Berlin:20251206T200000
DTSTAMP:20260423T223219
CREATED:20250301T174508Z
LAST-MODIFIED:20251101T135029Z
UID:596-1765036800-1765051200@www.kolping-poing.de
SUMMARY:Nikolaus-Besuch
DESCRIPTION:Unser Nikolaus besucht gerne wieder Familien in und um Poing. \nDer Besuch erfolgt kostenfrei\, wir bitten aber um eine Spende in Höhe von 30\,00 Euro für das Waisenhaus in Ivano-Frankisvk\, Ukraine. Zu diesem besteht seit dem Weltjugendtag 2005 in Deutschland eine persönliche Beziehung. \nFür weitere Informationen senden Sie bitte eine Mail an nikolaus@kolping-poing.de
URL:https://www.kolping-poing.de/event/nikolaus-besuch-2/
ATTACH;FMTTYPE=image/png:https://www.kolping-poing.de/wp-content/uploads/2025/03/Nikolaus.png
END:VEVENT
BEGIN:VEVENT
DTSTART;TZID=Europe/Berlin:20251213T090000
DTEND;TZID=Europe/Berlin:20251213T130000
DTSTAMP:20260423T223219
CREATED:20250301T174639Z
LAST-MODIFIED:20251209T184007Z
UID:598-1765616400-1765630800@www.kolping-poing.de
SUMMARY:Basteln für Weihnachten
DESCRIPTION:Es wird wieder weihnachtlich gebastelt. \nWer? Kinder ab der 1. Klasse; begrenzt auf 30 Kinder. \nWo? Pfarrheim Pater Rupert Mayer \nMit was? Laubsäge\, Holz\, Perlen\, Wolle\, Farbe… \nKosten: 9 Euro Materialkosten \nAnmeldung bis zum 10. Dezember 2025 mit Namen\, Alter\, Notfalltelefonnummer nur per Mail an basteln@kolping-poing.de \nBestätigung: kommt bis zum Wochenende. \nGestellt wird: Butterbrezen\, Obst und Kekse in der Pause. \nBitte mitbringen: Transportschachtel (Grundfläche mind. DIN A4)\, alte Kleidung (welche schmutzig werden darf) und ein eigenes Getränk. \nAuch Nicht-Mitglieder sind herzlich willkommen. \nNoch Fragen: ab 18 Uhr gerne nachfragen unter 0 81 21 – 97 17 27.
URL:https://www.kolping-poing.de/event/basteln-fuer-weihnachten/
LOCATION:Kath. Pfarrheim Pater Rupert Mayer\, Gebrüder-Asam-Straße 2\, Poing\, 85586\, Germany
END:VEVENT
END:VCALENDAR