BEGIN:VCALENDAR
VERSION:2.0
PRODID:-//Kolpingsfamilie Poing - ECPv6.15.18//NONSGML v1.0//EN
CALSCALE:GREGORIAN
METHOD:PUBLISH
X-WR-CALNAME:Kolpingsfamilie Poing
X-ORIGINAL-URL:https://www.kolping-poing.de
X-WR-CALDESC:Veranstaltungen für Kolpingsfamilie Poing
REFRESH-INTERVAL;VALUE=DURATION:PT1H
X-Robots-Tag:noindex
X-PUBLISHED-TTL:PT1H
BEGIN:VTIMEZONE
TZID:Europe/Berlin
BEGIN:DAYLIGHT
TZOFFSETFROM:+0100
TZOFFSETTO:+0200
TZNAME:CEST
DTSTART:20240331T010000
END:DAYLIGHT
BEGIN:STANDARD
TZOFFSETFROM:+0200
TZOFFSETTO:+0100
TZNAME:CET
DTSTART:20241027T010000
END:STANDARD
BEGIN:DAYLIGHT
TZOFFSETFROM:+0100
TZOFFSETTO:+0200
TZNAME:CEST
DTSTART:20250330T010000
END:DAYLIGHT
BEGIN:STANDARD
TZOFFSETFROM:+0200
TZOFFSETTO:+0100
TZNAME:CET
DTSTART:20251026T010000
END:STANDARD
BEGIN:DAYLIGHT
TZOFFSETFROM:+0100
TZOFFSETTO:+0200
TZNAME:CEST
DTSTART:20260329T010000
END:DAYLIGHT
BEGIN:STANDARD
TZOFFSETFROM:+0200
TZOFFSETTO:+0100
TZNAME:CET
DTSTART:20261025T010000
END:STANDARD
END:VTIMEZONE
BEGIN:VEVENT
DTSTART;TZID=Europe/Berlin:20250110T163000
DTEND;TZID=Europe/Berlin:20250110T183000
DTSTAMP:20260423T182507
CREATED:20250218T090637Z
LAST-MODIFIED:20250218T090637Z
UID:498-1736526600-1736533800@www.kolping-poing.de
SUMMARY:Führung "Jugendstil"
DESCRIPTION:In der Kunsthalle München findet aktuell die Ausstellung „Jugendstil“ statt. Hierzu bieten wir eine Führung an. \nDa die Gruppengröße begrenzt ist bitten wir um Anmeldung bei Toni Jell. \nUnkostenbeitrag: Mitglieder 3 Euro\, Nicht-Mitglieder 5 Euro.\nBitte beachten: der Eintrittspreis ist selbst zu entrichten und ist nicht im Unkostenbeitrag der Führung enthalten.
URL:https://www.kolping-poing.de/event/fuehrung-jugendstil/
LOCATION:Kunsthalle München\, Theatinerstr. 8\, München\, 80333\, Germany
END:VEVENT
END:VCALENDAR