BEGIN:VCALENDAR
VERSION:2.0
PRODID:-//Kolpingsfamilie Poing - ECPv6.15.18//NONSGML v1.0//EN
CALSCALE:GREGORIAN
METHOD:PUBLISH
X-ORIGINAL-URL:https://www.kolping-poing.de
X-WR-CALDESC:Veranstaltungen für Kolpingsfamilie Poing
REFRESH-INTERVAL;VALUE=DURATION:PT1H
X-Robots-Tag:noindex
X-PUBLISHED-TTL:PT1H
BEGIN:VTIMEZONE
TZID:Europe/Berlin
BEGIN:DAYLIGHT
TZOFFSETFROM:+0100
TZOFFSETTO:+0200
TZNAME:CEST
DTSTART:20240331T010000
END:DAYLIGHT
BEGIN:STANDARD
TZOFFSETFROM:+0200
TZOFFSETTO:+0100
TZNAME:CET
DTSTART:20241027T010000
END:STANDARD
BEGIN:DAYLIGHT
TZOFFSETFROM:+0100
TZOFFSETTO:+0200
TZNAME:CEST
DTSTART:20250330T010000
END:DAYLIGHT
BEGIN:STANDARD
TZOFFSETFROM:+0200
TZOFFSETTO:+0100
TZNAME:CET
DTSTART:20251026T010000
END:STANDARD
BEGIN:DAYLIGHT
TZOFFSETFROM:+0100
TZOFFSETTO:+0200
TZNAME:CEST
DTSTART:20260329T010000
END:DAYLIGHT
BEGIN:STANDARD
TZOFFSETFROM:+0200
TZOFFSETTO:+0100
TZNAME:CET
DTSTART:20261025T010000
END:STANDARD
END:VTIMEZONE
BEGIN:VEVENT
DTSTART;TZID=Europe/Berlin:20250502T180000
DTEND;TZID=Europe/Berlin:20250502T200000
DTSTAMP:20260421T164528
CREATED:20250302T095306Z
LAST-MODIFIED:20250302T095306Z
UID:606-1746208800-1746216000@www.kolping-poing.de
SUMMARY:Bezirksmaiandacht
DESCRIPTION:Wir feiern erneut mit unserem Bezirkspräses unsere Bezirksmaiandacht in Maria Altenburg. Anschließend kehren wir im Bürgerstüberl in der Glonners Straße 4 in Moosach ein. \nAnmeldung bis zum 26. April 2025 bei Georg Brunnhofer unter georg@brunnhofer.de
URL:https://www.kolping-poing.de/event/bezirksmaiandacht/
LOCATION:Maria Altenburg\, Altenburg 39\, Moosach\, 85665
CATEGORIES:Externe Veranstaltung
END:VEVENT
BEGIN:VEVENT
DTSTART;TZID=Europe/Berlin:20250521T190000
DTEND;TZID=Europe/Berlin:20250521T210000
DTSTAMP:20260421T164528
CREATED:20250501T172915Z
LAST-MODIFIED:20250512T060834Z
UID:721-1747854000-1747861200@www.kolping-poing.de
SUMMARY:"Wo Dein Geist weht"
DESCRIPTION:Wir feiern wieder gemeinsam einen Wortgottesdienst zum Mitbeten\, Mitgestalten und Mitsingen. Das Thema lautet diesmal „Wo Dein Geist weht“. \nWir beginnen um 19:00 Uhr im Meditationsraum des Pfarrzentrums Pater Rupert Mayer. \nAnschließend laden wir zum geselligen Ausklang und Ratschen ein. \nAusdrücklich freuen wir uns auch über Nicht-Mitglieder.
URL:https://www.kolping-poing.de/event/wortgottesdienst-2/
LOCATION:Kath. Pfarrheim Pater Rupert Mayer\, Gebrüder-Asam-Straße 2\, Poing\, 85586\, Germany
END:VEVENT
BEGIN:VEVENT
DTSTART;TZID=Europe/Berlin:20250531T190000
DTEND;TZID=Europe/Berlin:20250531T213000
DTSTAMP:20260421T164528
CREATED:20250415T122017Z
LAST-MODIFIED:20250529T180223Z
UID:698-1748718000-1748727000@www.kolping-poing.de
SUMMARY:Amtseinführung Pfr. Jasper Gülden
DESCRIPTION:Wir freuen uns auf unseren zukünftigen Pfarrer und seine Amtseinführung am Samstag Abend\, 31. Mai 2025 um 19:00 Uhr in der Kirche Seliger Pater Rupert Mayer. \nDabei bitten wir unsere Mitglieder um rege Teilnahme am Gottesdienst\, um Pfarrer Jasper Gülden ein fröhliches und herzliches Willkommen in unserer Gemeinde zu bereiten. \nZeigen wir unser Interesse\, unser Engagement und die mögliche Vielfalt in unserer (Pfarr-)Gemeinde und feiern wir ein Fest der Freude darüber\, dass die Vakanz auch in unserer Pfarrgemeinde beendet ist. \nVeranstalter: Pfarrgemeinderat und Kirchenverwaltung Poing
URL:https://www.kolping-poing.de/event/amtseinfuehrung-pfr-jasper-guelden/
LOCATION:Kath. Kirche Seliger Pater Rupert Mayer\, Gebr.-Asam-Str. 2\, Poing\, 85586\, Germany
CATEGORIES:Externe Veranstaltung
ORGANIZER;CN="Pfarrei St. Michael Poing":MAILTO:St-Michael.Poing@ebmuc.de
END:VEVENT
END:VCALENDAR