BEGIN:VCALENDAR
VERSION:2.0
PRODID:-//Kolpingsfamilie Poing - ECPv6.15.18//NONSGML v1.0//EN
CALSCALE:GREGORIAN
METHOD:PUBLISH
X-ORIGINAL-URL:https://www.kolping-poing.de
X-WR-CALDESC:Veranstaltungen für Kolpingsfamilie Poing
REFRESH-INTERVAL;VALUE=DURATION:PT1H
X-Robots-Tag:noindex
X-PUBLISHED-TTL:PT1H
BEGIN:VTIMEZONE
TZID:Europe/Berlin
BEGIN:DAYLIGHT
TZOFFSETFROM:+0100
TZOFFSETTO:+0200
TZNAME:CEST
DTSTART:20240331T010000
END:DAYLIGHT
BEGIN:STANDARD
TZOFFSETFROM:+0200
TZOFFSETTO:+0100
TZNAME:CET
DTSTART:20241027T010000
END:STANDARD
BEGIN:DAYLIGHT
TZOFFSETFROM:+0100
TZOFFSETTO:+0200
TZNAME:CEST
DTSTART:20250330T010000
END:DAYLIGHT
BEGIN:STANDARD
TZOFFSETFROM:+0200
TZOFFSETTO:+0100
TZNAME:CET
DTSTART:20251026T010000
END:STANDARD
BEGIN:DAYLIGHT
TZOFFSETFROM:+0100
TZOFFSETTO:+0200
TZNAME:CEST
DTSTART:20260329T010000
END:DAYLIGHT
BEGIN:STANDARD
TZOFFSETFROM:+0200
TZOFFSETTO:+0100
TZNAME:CET
DTSTART:20261025T010000
END:STANDARD
END:VTIMEZONE
BEGIN:VEVENT
DTSTART;TZID=Europe/Berlin:20250412T100000
DTEND;TZID=Europe/Berlin:20250412T140000
DTSTAMP:20260421T202151
CREATED:20250218T105359Z
LAST-MODIFIED:20250316T102552Z
UID:525-1744452000-1744466400@www.kolping-poing.de
SUMMARY:Fastensuppe - Vorkochen
DESCRIPTION:Am Palmsonntag bieten wir wieder unsere Fastensuppe an. An diesem Termin (Vortag) kochen wir vor und suchen dafür fleißige Helfer*innen zum Schneiden\, Kochen und Rühren. \nWer Lust hat: einfach dazu kommen.
URL:https://www.kolping-poing.de/event/fastensuppe-vorkochen/
LOCATION:Kath. Pfarrheim Pater Rupert Mayer\, Gebrüder-Asam-Straße 2\, Poing\, 85586\, Germany
END:VEVENT
BEGIN:VEVENT
DTSTART;TZID=Europe/Berlin:20250413T110000
DTEND;TZID=Europe/Berlin:20250413T130000
DTSTAMP:20260421T202151
CREATED:20250218T105512Z
LAST-MODIFIED:20250411T084521Z
UID:527-1744542000-1744549200@www.kolping-poing.de
SUMMARY:Fastensuppe
DESCRIPTION:Traditionell bietet unsere Kolpingsfamilie am Palmsonntag eine Fastensuppe an. Auch heuer werden wir dies wieder anbieten: nach dem Gottesdienst zum gemeinschaftlichen Essen im Pfarrzentrum Pater Rupert Mayer einladen. \nDie Fastensuppe (vegetarisch\, auf Wunsch mit Würstel) bieten wir kostenlos an\, bitten aber um eine Spende zu Gunsten des Frauenhauses in Ebersberg.\nWeitere Informationen zum Frauenhaus in Ebersberg gibt es unter frauennotruf-ebersberg.de. \nWir freuen uns auf viele Besucher*innen bei unserer Fastensuppe und sagen bereits heute schon Vergelt’s Gott!
URL:https://www.kolping-poing.de/event/fastensuppe/
LOCATION:Kath. Pfarrheim Pater Rupert Mayer\, Gebrüder-Asam-Straße 2\, Poing\, 85586\, Germany
END:VEVENT
END:VCALENDAR