BEGIN:VCALENDAR
VERSION:2.0
PRODID:-//Kolpingsfamilie Poing - ECPv6.15.18//NONSGML v1.0//EN
CALSCALE:GREGORIAN
METHOD:PUBLISH
X-ORIGINAL-URL:https://www.kolping-poing.de
X-WR-CALDESC:Veranstaltungen für Kolpingsfamilie Poing
REFRESH-INTERVAL;VALUE=DURATION:PT1H
X-Robots-Tag:noindex
X-PUBLISHED-TTL:PT1H
BEGIN:VTIMEZONE
TZID:Europe/Berlin
BEGIN:DAYLIGHT
TZOFFSETFROM:+0100
TZOFFSETTO:+0200
TZNAME:CEST
DTSTART:20250330T010000
END:DAYLIGHT
BEGIN:STANDARD
TZOFFSETFROM:+0200
TZOFFSETTO:+0100
TZNAME:CET
DTSTART:20251026T010000
END:STANDARD
BEGIN:DAYLIGHT
TZOFFSETFROM:+0100
TZOFFSETTO:+0200
TZNAME:CEST
DTSTART:20260329T010000
END:DAYLIGHT
BEGIN:STANDARD
TZOFFSETFROM:+0200
TZOFFSETTO:+0100
TZNAME:CET
DTSTART:20261025T010000
END:STANDARD
BEGIN:DAYLIGHT
TZOFFSETFROM:+0100
TZOFFSETTO:+0200
TZNAME:CEST
DTSTART:20270328T010000
END:DAYLIGHT
BEGIN:STANDARD
TZOFFSETFROM:+0200
TZOFFSETTO:+0100
TZNAME:CET
DTSTART:20271031T010000
END:STANDARD
END:VTIMEZONE
BEGIN:VEVENT
DTSTART;TZID=Europe/Berlin:20261201T080000
DTEND;TZID=Europe/Berlin:20261224T083000
DTSTAMP:20260423T180510
CREATED:20251222T193852Z
LAST-MODIFIED:20251222T193852Z
UID:1243-1796112000-1798101000@www.kolping-poing.de
SUMMARY:Impulse in der Adventszeit
DESCRIPTION:In der gar nicht mehr so staaden Zeit zur Ruhe kommen und eine kleine Auszeit haben – das wollen wir mit unseren Impulsen in der Adventszeit ermöglichen. Mitglieder und Freunde unserer Kolpingsfamilie schreiben eigene Impulse\, welche wir jeden Morgen veröffentlichen.
URL:https://www.kolping-poing.de/event/impulse-in-der-adventszeit-2/
END:VEVENT
BEGIN:VEVENT
DTSTART;TZID=Europe/Berlin:20261213T113000
DTEND;TZID=Europe/Berlin:20261213T123000
DTSTAMP:20260423T180510
CREATED:20260110T120602Z
LAST-MODIFIED:20260110T120602Z
UID:1258-1797161400-1797165000@www.kolping-poing.de
SUMMARY:Zsam steh
DESCRIPTION:Nach dem Gottesdienst bieten wir erneut im Freien kostenfrei Glühwein und Kinderpunsch an. Wir freuen uns auf ein geselliges Zusammen stehen\, einen freudigen Austausch und die Möglichkeit\, sich gegenseitig (besser) kennen zu lernen.
URL:https://www.kolping-poing.de/event/zsam-steh-2/
END:VEVENT
BEGIN:VEVENT
DTSTART;TZID=Europe/Berlin:20261213T150000
DTEND;TZID=Europe/Berlin:20261213T170000
DTSTAMP:20260423T180510
CREATED:20251222T194138Z
LAST-MODIFIED:20251222T194138Z
UID:1245-1797174000-1797181200@www.kolping-poing.de
SUMMARY:Adventsfeier
DESCRIPTION:Gemeinsam wollen zur Ruhe kommen und die Adventszeit bei (Leb)Kuchen\, Tee und Kaffee sowie Gesang weihnachtlicher Lieder genießen.
URL:https://www.kolping-poing.de/event/adventsfeier-2/
LOCATION:Kath. Pfarrheim Pater Rupert Mayer\, Gebrüder-Asam-Straße 2\, Poing\, 85586\, Germany
ATTACH;FMTTYPE=image/jpeg:https://www.kolping-poing.de/wp-content/uploads/2025/12/25-12-14-Kuchen-e1765822528738.jpeg
END:VEVENT
END:VCALENDAR