BEGIN:VCALENDAR
VERSION:2.0
PRODID:-//Kolpingsfamilie Poing - ECPv6.15.18//NONSGML v1.0//EN
CALSCALE:GREGORIAN
METHOD:PUBLISH
X-ORIGINAL-URL:https://www.kolping-poing.de
X-WR-CALDESC:Veranstaltungen für Kolpingsfamilie Poing
REFRESH-INTERVAL;VALUE=DURATION:PT1H
X-Robots-Tag:noindex
X-PUBLISHED-TTL:PT1H
BEGIN:VTIMEZONE
TZID:Europe/Berlin
BEGIN:DAYLIGHT
TZOFFSETFROM:+0100
TZOFFSETTO:+0200
TZNAME:CEST
DTSTART:20250330T010000
END:DAYLIGHT
BEGIN:STANDARD
TZOFFSETFROM:+0200
TZOFFSETTO:+0100
TZNAME:CET
DTSTART:20251026T010000
END:STANDARD
BEGIN:DAYLIGHT
TZOFFSETFROM:+0100
TZOFFSETTO:+0200
TZNAME:CEST
DTSTART:20260329T010000
END:DAYLIGHT
BEGIN:STANDARD
TZOFFSETFROM:+0200
TZOFFSETTO:+0100
TZNAME:CET
DTSTART:20261025T010000
END:STANDARD
BEGIN:DAYLIGHT
TZOFFSETFROM:+0100
TZOFFSETTO:+0200
TZNAME:CEST
DTSTART:20270328T010000
END:DAYLIGHT
BEGIN:STANDARD
TZOFFSETFROM:+0200
TZOFFSETTO:+0100
TZNAME:CET
DTSTART:20271031T010000
END:STANDARD
END:VTIMEZONE
BEGIN:VEVENT
DTSTART;TZID=Europe/Berlin:20261115T160000
DTEND;TZID=Europe/Berlin:20261115T203000
DTSTAMP:20260421T150340
CREATED:20260227T123652Z
LAST-MODIFIED:20260227T123652Z
UID:1360-1794758400-1794774600@www.kolping-poing.de
SUMMARY:Bezirksquiz
DESCRIPTION:Es wird wieder gerätselt und geraten\, Wissen und Praxis ist gefragt. Dieses Mal richtet das Bezirksquiz die Kolpingsfamilie Ebersberg aus. \nWir freuen uns über viele Mitratende.
URL:https://www.kolping-poing.de/event/bezirksquiz-2/
LOCATION:Kath. Pfarrheim Ebersberg\, Baldestraße 18\, Ebersberg\, 85560
CATEGORIES:Externe Veranstaltung
END:VEVENT
END:VCALENDAR